BEGIN:VCALENDAR
PRODID:-//AT Content Types//AT Event//EN
VERSION:2.0
METHOD:PUBLISH
BEGIN:VEVENT
DTSTAMP:20260419T125357Z
CREATED:20240202T151031Z
UID:ATEvent-d7b0c32428a1405a85f2f45c5484f4ee
LAST-MODIFIED:20240202T163951Z
SUMMARY:Local Plan Q&A at St Michaels Community Center
DTSTART:20240530T140000Z
DTEND:20240530T170000Z
DESCRIPTION:Officers will provide a short presentation on the Local Pl
 an and this will be followed by a question and answer session.
CLASS:PUBLIC
END:VEVENT
END:VCALENDAR
