BEGIN:VCALENDAR
PRODID:-//AT Content Types//AT Event//EN
VERSION:2.0
METHOD:PUBLISH
BEGIN:VEVENT
DTSTAMP:20260419T125121Z
CREATED:20240202T151031Z
UID:ATEvent-266d4fbce5c441e38f95876b36112dc9
LAST-MODIFIED:20240202T163951Z
SUMMARY:Greener city
DTSTART:20240724T160000Z
DTEND:20240724T200000Z
DESCRIPTION:In this workshop\, you will hear from 4 speakers who will 
 provide advice on how you can personally reduce your carbon emissions 
 within the city. We aim to make this study area a more pedestrian and 
 cyclist friendly space and with your help\, we can achieve this goal.
CLASS:PUBLIC
END:VEVENT
END:VCALENDAR
