BEGIN:VCALENDAR
PRODID:-//AT Content Types//AT Event//EN
VERSION:2.0
METHOD:PUBLISH
BEGIN:VEVENT
DTSTAMP:20260419T142328Z
CREATED:20240130T104056Z
UID:ATEvent-edbfb75e85124c1fbc4054d73aa58ac9
LAST-MODIFIED:20240202T163455Z
SUMMARY:Go Electric!
DTSTART:20270217T170000Z
DTEND:20270217T190000Z
DESCRIPTION:Get a true experience of what it feels like to drive the f
 uture.\nIf you’re looking to make the switch  to an electric vehicle
  this is the event for you. Electric vehicle experts will be on hand t
 o answer your questions and provide advice about government grants and
  other schemes to help you get driving electric.
CLASS:PUBLIC
END:VEVENT
END:VCALENDAR
