BEGIN:VCALENDAR
PRODID:-//AT Content Types//AT Event//EN
VERSION:2.0
METHOD:PUBLISH
BEGIN:VEVENT
DTSTAMP:20260419T125259Z
CREATED:20240130T104056Z
UID:ATEvent-441509e2d0564ca39d2ef527ec9141ce
LAST-MODIFIED:20240202T163455Z
SUMMARY:An electric vehicle infrastructure - Q&A
DTSTART:20270120T090000Z
DTEND:20270120T120000Z
DESCRIPTION:An opportunity to ask questions and discuss the issues aro
 und the proposed electric vehicle infrastructure for Arlen Hill. Come 
 and have your say!
CLASS:PUBLIC
END:VEVENT
END:VCALENDAR
