BEGIN:VCALENDAR
PRODID:-//AT Content Types//AT Event//EN
VERSION:2.0
METHOD:PUBLISH
BEGIN:VEVENT
DTSTAMP:20260419T142343Z
CREATED:20240130T092428Z
UID:ATEvent-4b7a5168ca7f4c849d7ad851e7389f43
LAST-MODIFIED:20240202T163550Z
SUMMARY:Town hall coffee morning
DTSTART:20250210T100000Z
DTEND:20250210T120000Z
DESCRIPTION:Come in and chat about any issues you have and have a cup 
 of tea or coffee.
CLASS:PUBLIC
END:VEVENT
END:VCALENDAR
