BEGIN:VCALENDAR
PRODID:-//AT Content Types//AT Event//EN
VERSION:2.0
METHOD:PUBLISH
BEGIN:VEVENT
DTSTAMP:20260419T124941Z
CREATED:20240130T092428Z
UID:ATEvent-273ad0756bcd4012a21b5e9a7df30cf3
LAST-MODIFIED:20240202T163550Z
SUMMARY:Historic walk
DTSTART:20250516T100000Z
DTEND:20250516T120000Z
DESCRIPTION:Join us for a guided tour of Arlen Hill\, taking in all th
 e significant buildings and landmarks of the area.
CLASS:PUBLIC
END:VEVENT
END:VCALENDAR
